BEGIN:VCALENDAR
VERSION:2.0
PRODID:-//eventon.com NONSGML v1.0//EN
BEGIN:VEVENT
UID:69e7af75d98e5
DTSTAMP:20260421T131013
DTSTART:20240716T140000Z
DTEND:20240716T190000Z
TZID:America/New_York
LOCATION:Stouffville Office 
SUMMARY:Point\,  Click\,  Connect - Digital Literacy Program (STOUFFVILLE JOB SKILLS)
DESCRIPTION: Module 1: Computer Basics: Introduction to Windows Develop your skills by familiarizing yourself with computer basics. Participants will have the opportunity to upgrade their digital skills to function successfully in both the workplace and personal life. Module 2: Communicating on Email and Social Media Understand the fundamentals of online platforms\, [..]
URL:https://www.jobskills.org/events/point-click-connect-digital-literacy-program-stouffville-job-skills-2/var/ri-1.l-L1
END:VEVENT
END:VCALENDAR