BEGIN:VCALENDAR
VERSION:2.0
PRODID:-//eventon.com NONSGML v1.0//EN
BEGIN:VEVENT
UID:69e768c2e3b75
DTSTAMP:20260421T080834
DTSTART:20240930T140000Z
DTEND:20240930T190000Z
TZID:America/New_York
LOCATION:Newmarket Welcome Centre 
SUMMARY:Point\,  Click\,  Connect - Digital Literacy Program (Newmarket Welcome Centre)
DESCRIPTION: Module 1: Computer Basics: Introduction to Windows Develop your skills by familiarizing yourself with computer basics. Participants will have the opportunity to upgrade their digital skills to function successfully in both the workplace and personal life. Module 2: Communicating on Email and Social Media Understand the fundamentals of online platforms\, [..]
URL:https://www.jobskills.org/events/point-click-connect-digital-literacy-program-newmarket-welcome-centre-4/
END:VEVENT
END:VCALENDAR