BEGIN:VCALENDAR
VERSION:2.0
PRODID:-//eventon.com NONSGML v1.0//EN
BEGIN:VEVENT
UID:69e68afa49252
DTSTAMP:20260420T162218
DTSTART:20250226T150000Z
DTEND:20250226T200000Z
TZID:America/New_York
LOCATION:Newmarket Public Library 
SUMMARY:Point\,  Click\,  Connect - Digital Literacy Program (Newmarket Public Library)
DESCRIPTION: Module 1: Computer Basics: Introduction to Windows Develop your skills by familiarizing yourself with computer basics. Participants will have the opportunity to upgrade their digital skills to function successfully in both the workplace and personal life. Module 2: Communicating on Email and Social Media Understand the fundamentals of online platforms\, [..]
URL:https://www.jobskills.org/events/point-click-connect-digital-literacy-program-newmarket-public-library-7/
END:VEVENT
END:VCALENDAR