BEGIN:VCALENDAR
VERSION:2.0
PRODID:-//eventon.com NONSGML v1.0//EN
BEGIN:VEVENT
UID:69e9dfcb56b66
DTSTAMP:20260423T050059
DTSTART:20250415T133000Z
DTEND:20250415T183000Z
TZID:America/New_York
LOCATION:Vaughan Welcome Centre 
SUMMARY:Self-Employment Path for Newcomers (SEPN) - Phase 2
DESCRIPTION: Phase 2 (ONE DAY) Assess your business concept Find opportunities and identify trends in the marketplace Learn how to conduct market research and identify your target market Receive support and coaching Upon completion\,  participants can move to Phase 3 Register &#8211; Self-Employment Pathways for Newcomers &#8211; Job Skills
URL:https://www.jobskills.org/events/self-employment-path-for-newcomers-sepn-phase-2-5/
END:VEVENT
END:VCALENDAR