BEGIN:VCALENDAR
VERSION:2.0
PRODID:-//eventon.com NONSGML v1.0//EN
BEGIN:VEVENT
UID:69e9da02bdb9a
DTSTAMP:20260423T043618
DTSTART:20250923T180000Z
DTEND:20250923T200000Z
TZID:America/New_York
LOCATION:Markham North Welcome Centre 
SUMMARY:Resume Refresh for Newcomers - Markham North Welcome Centre
DESCRIPTION: Are you a newcomer looking to increase the chances of securing a job interview? Join a Resume Refresh workshop at the Markham North Welcome Centre! What to expect: One-to-one resume critiques by employment specialists Constructive feedback to strengthen your resume Tips on how to tailor your resume to suit Canadian[..]
URL:https://www.jobskills.org/events/resume-refresh-for-newcomers-3/
END:VEVENT
END:VCALENDAR