BEGIN:VCALENDAR
VERSION:2.0
PRODID:-//eventon.com NONSGML v1.0//EN
BEGIN:VEVENT
UID:69e7310d4e7b3
DTSTAMP:20260421T041053
DTSTART:20251030T130000Z
DTEND:20251030T160000Z
TZID:America/New_York
LOCATION:Markham North Welcome Centre 
SUMMARY:Stepping Stones to Employment - Workshop Series for Newcomers
DESCRIPTION: Are you new to Canada and looking to start or grow your career? Join us for our free workshop series designed to help newcomers like you succeed in the workforce! CHOOSE YOUR PATH: Sign up for individual workshops based on your needs Complete all 15 workshops to receive a Certificate of[..]
URL:https://www.jobskills.org/events/stepping-stones-to-employment-workshop-series-for-newcomers/
END:VEVENT
END:VCALENDAR