BEGIN:VCALENDAR
VERSION:2.0
PRODID:-//eventon.com NONSGML v1.0//EN
BEGIN:VEVENT
UID:69e9dae44b516
DTSTAMP:20260423T044004
DTSTART:20260226T170000Z
DTEND:20260226T210000Z
TZID:America/New_York
LOCATION:Keswick Employment Services 
SUMMARY:Municipal Hiring Event
DESCRIPTION: Explore exciting job opportunities and make a difference in your community! Why you should attend: Meet representatives from Town of Georgina and Town of East Gwillimbury Learn about available roles Take the next step toward a rewarding career Whether you’re looking for full-time\,  part-time\,  or seasonal employment\,  this is an opportunity to build a career[..]
URL:https://www.jobskills.org/events/municipal-hiring-event/
END:VEVENT
END:VCALENDAR