BEGIN:VCALENDAR
VERSION:2.0
PRODID:-//eventon.com NONSGML v1.0//EN
BEGIN:VEVENT
UID:69e7309a93229
DTSTAMP:20260421T040858
DTSTART:20260319T180000Z
DTEND:20260319T200000Z
TZID:America/New_York
LOCATION:Markham ES 
SUMMARY:MES : Ace Your Interview [26538]
DESCRIPTION: The resume will get you an interview\,  but the interview will get you the job! Outcomes include: 1. Understanding types of interviews 2. Discussing types of questions and how to answer them 3.Benefit Statement 4. Practicing your interview skills
URL:https://www.jobskills.org/events/mes-ace-your-interview-26538/
END:VEVENT
END:VCALENDAR