BEGIN:VCALENDAR
VERSION:2.0
PRODID:-//eventon.com NONSGML v1.0//EN
BEGIN:VEVENT
UID:69e7305ac310e
DTSTAMP:20260421T040754
DTSTART:20260312T180000Z
DTEND:20260312T200000Z
TZID:America/New_York
LOCATION:Markham ES 
SUMMARY:MES : Skills and Accomplishments [26537]
DESCRIPTION: The average person has hundreds of skills. Can you identify them? Outcomes include: Completing a skills inventory to identify which skills you can showcase in your resume\,  cover letter and in an interview. Learn about Adaptive\,  Technical and Transferable Skills and practice writing Accomplishment Statements.
URL:https://www.jobskills.org/events/mes-skills-and-accomplishments-26537/
END:VEVENT
END:VCALENDAR