BEGIN:VCALENDAR
VERSION:2.0
PRODID:-//eventon.com NONSGML v1.0//EN
BEGIN:VEVENT
UID:69eb9291d563f
DTSTAMP:20260424T115601
DTSTART:20210121T100000Z
DTEND:20210121T110000Z
TZID:UTC
LOCATION:Virtual 
SUMMARY:LinkedIn 101
DESCRIPTION: Networking is more important than ever. Only 15% of the jobs available are ever advertised. This means that the other 85% of jobs can only be found through networking\,  and LinkedIn has become essential to any Networker&#8217;s Tool-Kit. In this session\,  you will learn how to create a profile that[..]
URL:https://www.jobskills.org/events/linkedin-101-4/
END:VEVENT
END:VCALENDAR