BEGIN:VCALENDAR
VERSION:2.0
PRODID:-//eventon.com NONSGML v1.0//EN
BEGIN:VEVENT
UID:69e8cf22a2eed
DTSTAMP:20260422T093738
DTSTART:20210604T010000Z
DTEND:20210604T020000Z
TZID:Pacific/Midway
LOCATION:Virtual 
SUMMARY:Second Career
DESCRIPTION: Second Career is an Ontario Government program that helps you train for a new job. If you were laid off any time after January 1\,  2005 you may be eligible to apply for Second Career. This session will provide step-by-step information about the eligibility and suitability criteria for Second Career[..]
URL:https://www.jobskills.org/events/second-career-11/
END:VEVENT
END:VCALENDAR