BEGIN:VCALENDAR
VERSION:2.0
PRODID:-//eventon.com NONSGML v1.0//EN
BEGIN:VEVENT
UID:69e9d8ec1bca8
DTSTAMP:20260423T043140
DTSTART:20210826T150000Z
DTEND:20210826T160000Z
TZID:America/New_York
LOCATION:
SUMMARY:Youth Entrepreneurship Program - Information Session
DESCRIPTION: The Youth Entrepreneurship program&nbsp;gives promising young entrepreneurs access to resources and skills providing the best chance for the success of their new businesses. You’ll have the opportunity to start your own business during this six-month program. LEARN ABOUT Developing a broad range of skills\,  knowledge\,  and experience – tailored to[..]
URL:https://www.jobskills.org/events/youth-entrepreneurship-program-information-session-20/
END:VEVENT
END:VCALENDAR