BEGIN:VCALENDAR
VERSION:2.0
PRODID:-//eventon.com NONSGML v1.0//EN
BEGIN:VEVENT
UID:69e4cc6b443f2
DTSTAMP:20260419T083659
DTSTART:20220224T190000Z
DTEND:20220224T200000Z
TZID:America/New_York
LOCATION:Virtual 
SUMMARY:Peel Community Resources Information Session
DESCRIPTION: Do what community supports are available in Peel Region? This workshop is designed to provide you with a wide range of information regarding services\,  programs\,  and community resources that can help you with your day-to-day goals.
URL:https://www.jobskills.org/events/peel-community-resources-information-session-2/
END:VEVENT
END:VCALENDAR