BEGIN:VCALENDAR
VERSION:2.0
PRODID:-//eventon.com NONSGML v1.0//EN
BEGIN:VEVENT
UID:69e731012f421
DTSTAMP:20260421T041041
DTSTART:20220405T100000Z
DTEND:20220405T110000Z
TZID:UTC
LOCATION:Online 
SUMMARY:Diversity in the workplace
DESCRIPTION: What does it mean when we talk about diversity and inclusivity? Participants will learn why diversity and inclusion are important\,  how they are an essential part of every workplace\,  and how organizations work towards creating inclusive work environments for their employees.
URL:https://www.jobskills.org/events/diversity-in-the-workplace-17/
END:VEVENT
END:VCALENDAR