BEGIN:VCALENDAR
VERSION:2.0
PRODID:-//eventon.com NONSGML v1.0//EN
BEGIN:VEVENT
UID:69e69a1a9284b
DTSTAMP:20260420T172650
DTSTART:20220602T100000Z
DTEND:20220602T110000Z
TZID:UTC
LOCATION:Online 
SUMMARY:Networking and Direct Approach
DESCRIPTION: Learn how to create opportunities for yourself through networking and direct approach techniques. In this workshop\,  you will learn how to be an enterprising job applicant who can take the initiative to generate job opportunities for yourself.
URL:https://www.jobskills.org/events/networking-and-direct-approach-24/
END:VEVENT
END:VCALENDAR