BEGIN:VCALENDAR
VERSION:2.0
PRODID:-//eventon.com NONSGML v1.0//EN
BEGIN:VEVENT
UID:69ed72e15c7f7
DTSTAMP:20260425T220521
DTSTART:20221020T130000Z
DTEND:20221020T160000Z
TZID:UTC
LOCATION:KES In Person 
SUMMARY:KES CE 3: Skills\,  Values\,  and Change
DESCRIPTION: Building on the previous workshops\,  you will use a variety of tools to explore your personal career interest. By the end of this workshop you will have 2 to 4 good career options to research and explore.
URL:https://www.jobskills.org/events/kes-ce-3-skills-values-and-change-2/
END:VEVENT
END:VCALENDAR