BEGIN:VCALENDAR
VERSION:2.0
PRODID:-//eventon.com NONSGML v1.0//EN
BEGIN:VEVENT
UID:69e8c74be43c9
DTSTAMP:20260422T090411
DTSTART:20221013T130000Z
DTEND:20221013T160000Z
TZID:UTC
LOCATION:MES In Person 
SUMMARY:MES CE 2 - Skills\,  Interests and Abilities
DESCRIPTION: This workshop is part of the complete Career Exploration series or can be taken by itself. Having a good understanding of your skills\,  abilities and interests can assist you with Career Exploration\,  writing your resume and interview preparation. By the end of the workshop you will have a clear idea[..]
URL:https://www.jobskills.org/events/mes-ce-2-skills-interests-and-abilities-2/
END:VEVENT
END:VCALENDAR