BEGIN:VCALENDAR
VERSION:2.0
PRODID:-//eventon.com NONSGML v1.0//EN
BEGIN:VEVENT
UID:69e60c0cd3339
DTSTAMP:20260420T072044
DTSTART:20230112T180000Z
DTEND:20230112T210000Z
TZID:America/New_York
LOCATION:KES In Person 
SUMMARY:KES CE 2: Interests\,  Skills\,  and Abilities [21507]
DESCRIPTION: This workshop is part of the complete Career Exploration series or can be taken by itself. Having a good understanding of your skills\,  abilities and interests can assist you with Career Exploration\,  writing your resume and interview preparation. By the end of the workshop you will have clear idea of[..]
URL:https://www.jobskills.org/events/kes-career-exploration-session-2-interests-skills-and-abilities/
END:VEVENT
END:VCALENDAR