BEGIN:VCALENDAR
VERSION:2.0
PRODID:-//eventon.com NONSGML v1.0//EN
BEGIN:VEVENT
UID:69e5c3e7ac78b
DTSTAMP:20260420T021255
DTSTART:20230619T180000Z
DTEND:20230619T203000Z
TZID:America/New_York
LOCATION:
SUMMARY:SELF-EMPLOYMENT PATHWAYS FOR NEWCOMERS - NEXT PHASE 3 (ZOOM ONLINE SESSIONS)
DESCRIPTION: Next Phase 3 | Zoom Online Sessions (DAY 1 &#8211; 4) Program to help newcomers explore the idea of starting a business in Canada. Group sessions\,  and individual business coaching to successfully develop a business concept. ELIGIBILITY Permanent residents and applicants for permanent residence with a letter from IRCC informing[..]
URL:https://www.jobskills.org/events/self-employment-pathways-for-newcomers-next-phase-3-zoom-online-sessions/
END:VEVENT
END:VCALENDAR